BEGIN:VCALENDAR
VERSION:2.0
PRODID:-//eventon.com NONSGML v1.0//EN
CALSCALE:GREGORIAN
METHOD:PUBLISH
BEGIN:VEVENT
UID:69ea44751cf2b
DTSTAMP:20260423T161029Z
DTSTART:20251206T213000Z
DTEND:20251207T035900Z
LOCATION:Town Hall and Market Square 212 Water Street\,  Saint Andrews New Brunswick E5B 1B4
SUMMARY:Firemen's Santa Claus Parade
DESCRIPTION:Santa Claus comes to town!  For those wishing to register for 
 entry in the parade\,  please contact Kevin Theriault\,  Fire Chief by emai
 l at fire@townofstandrews.ca or by phone at (506) 529-5150 or Town Hall at 
 (506) 529-5120.\nhttps://christmasbythesea.ca/events/firemans-santa-claus-p
 arade/
URL:https://christmasbythesea.ca/events/firemans-santa-claus-parade/
END:VEVENT
END:VCALENDAR