BEGIN:VCALENDAR
VERSION:2.0
PRODID:-//eventon.com NONSGML v1.0//EN
CALSCALE:GREGORIAN
METHOD:PUBLISH
BEGIN:VEVENT
UID:69e4dd2e8d3b2
DTSTAMP:20260419T134830Z
DTSTART:20221104T223000Z
DTEND:20221105T000000Z
LOCATION:W.C. O’Neill Arena Complex 24 Reed Ave. Saint Andrews\,  NB E5B 1A1
SUMMARY:Bluebirds by Vern Thiessen
DESCRIPTION:Written by Vern Thiessen | Directed by Natasha MacLellan | Feat
 uring Kirsten Alter\,  Mélanie LeBlanc and Sharisse LeBrun. Bluebirds is s
 et in Étaples\,  France\,  1918. Nurses Christy\,  Maggie\,  and Bab have 
 crossed oceans to care for wounded Canadian soldiers in the Great War. Desp
 ite the terrible injuries they must deal[..]\nhttps://christmasbythesea.ca/
 events/bluebirds-by-vern-thiessen/
URL:https://christmasbythesea.ca/events/bluebirds-by-vern-thiessen/
END:VEVENT
END:VCALENDAR